Workbook

Sheet Planilha
A9: OBRA: PAVIMENTAÇÃO EM LAJOTA SEXTAVADO
A10: LOCAL: ESTRADA NICOLA DI SALVO - VILA SÃO JORGE -PEDRO DE TOLEDO - S/P
A11: BASE: CDHU - 199 SEM DESONERAÇÃO / SINAPI 09/2025
A12: PLANILHA ORÇAMENTARIA
A13: ITEM | B13: FONTE | C13: CÓDIGO | D13: ESPECIFICAÇÃO DOS SERVIÇOS | E13: UND. | F13: QUANT. | G13: UNITÁRIO
A14: 1.0 | D14: Serviços preliminares | H14: =SUM(H15:H16) -> 3898.2
A15: 1.1 | B15: CDHU | C15: 02.08.020 | D15: Placa de identificação para obra | E15: m² | F15: 6 | G15: 631.34 | H15: =G15*F15 -> 3788.04
A16: 1.2 | B16: CDHU | C16: 02.10.060 | D16: Locação de vias, calçadas, tanques e lagoas M2 0,84 | E16: m | F16: 72 | G16: 1.53 | H16: =G16*F16 -> 110.16
A17: 2.0 | D17: Guias | H17: =H18 -> 8606.88
A18: 2.1 | B18: CDHU | C18: 54.06.040 | D18: Guia pré-moldada reta tipo PMSP 100 - fck 25 Mpa | E18: m | F18: 144 | G18: 59.77 | H18: =F18*G18 -> 8606.88
A19: 3.0 | D19: Movimento de terra / Pavimentação | H19: =SUM(H20:H26) -> 75487.896
A20: 3.1 | B20: CDHU | C20: 07.02.020 | D20: Escavação mecanizada de valas ou cavas com profundidade até 2,00m | E20: m³ | F20: 108 | G20: 11.86 | H20: =F20*G20 -> 1280.88
A21: 3.2 | B21: CDHU | C21: 05.10.023 | D21: Transporte de solo de 1ª e 2ª categoria por caminhão para distâncias superiores ao 5° km até 10º Km | E21: m³ | F21: 108 | G21: 20.48 | H21: =F21*G21 -> 2211.84
A22: 3.3 | B22: CDHU | C22: 54.01.400 | D22: Abertura de Caixa atém 25 cm, inclui escavação, compactação, transporte e preparo do subleito | E22: m² | F22: 432 | G22: 26.39 | H22: =F22*G22 -> 11400.48
A23: 3.4 | B23: CDHU | C23: 54.01.220 | D23: Base para bica corrida | E23: m³ | F23: 21.6 | G23: 253.01 | H23: =F23*G23 -> 5465.016
A24: 3.5 | B24: Sinapi | C24: 368 | D24: Areia para aterro | E24: m³ | F24: 21.6 | G24: 42.5 | H24: =F24*G24 -> 918
A25: 3.6 | B25: CDHU | C25: 54.01.010 | D25: Regularização e compactação mecanizada de superfície, sem controle do proctor normal | E25: m² | F25: 432 | G25: 3.74 | H25: =F25*G25 -> 1615.68
A26: 3.7 | B26: CDHU | C26: 54.04.350 | D26: Pavimentação em lajota de concreto 35 MPa, espessura 8 cm, tipos: raquete, retangular, sextavado e 16 faces, com rejunte em areia | E26: m² | F26: 432 | G26: 121.75 | H26: =F26*G26 -> 52596
A27: 4.0 | D27: Calçadas | H27: =SUM(H28:H30) -> 12784.176
A28: 4.1 | B28: CDHU | C28: 54.01.400 | D28: Abertura de Caixa atém 25 cm, inclui escavação, compactação, transporte e preparo do subleito | E28: m² | F28: 144 | G28: 26.39 | H28: =F28*G28 -> 3800.16
A29: 4.2 | B29: CDHU | C29: 54.01.220 | D29: Base para bica corrida | E29: m³ | F29: 7.2 | G29: 253.01 | H29: =F29*G29 -> 1821.672
A30: 4.3 | B30: CDHU | C30: 17.05.070 | D30: Piso com requadro em concreto simples com controle de fck= 20 Mpa | E30: m³ | F30: 7.2 | G30: 994.77 | H30: =F30*G30 -> 7162.344
A32: VALOR TOTAL S/ BDI | H32: =H14+H17+H19+H27 -> 100777.15
A33: TOTAL BDI - 24,23% | H33: =(H32*24.23%) -> 24418.304
A34: TOTAL GERAL | H34: =H32+H33 -> 125195.46

Sheet Cronograma
A6: Título : | B6: Infraestrutura Urbana
A7: Obra : | B7: Pavimentação com lajota sextavada de concreto
A8: Local : | B8: Estrada Nicola Di Salvo
A9: Bairro :
A11: ITEM | B11: ESPECIFICAÇÃO DOS SERVIÇOS | C11: 60 DIAS | G11: TOTAL R$
C12: 15 dias | D12: 15 dias | E12: 15 dias | F12: 15 dias
A14: 1 | B14: SERVIÇOS INICIAIS | C14: =Planilha!H14 -> 3898.2 | G14: =SUM(C14:F14) -> 3898.2
C15: 1
A16: 2 | B16: Guias/sarjetas | D16: =Planilha!H17 -> 8606.88 | G16: =SUM(C16:F16) -> 8606.88
D17: 1
A18: 3 | B18: Movimento de Terra/pavimentação | E18: =(Planilha!H19)/2 -> 37743.948 | F18: =(Planilha!H19)/2 -> 37743.948 | G18: =SUM(C18:F18) -> 75487.896
E19: 0.5 | F19: 0.5
A20: 4 | B20: Passeio | F20: =Planilha!H27 -> 12784.176 | G20: =SUM(C20:F20) -> 12784.176
F21: 1
A22: TOTAL POR MÊS | C22: =C14 -> 3898.2 | D22: =D16 -> 8606.88 | E22: =E18 -> 37743.948 | F22: =F18+F20 -> 50528.124 | G22: =SUM(G14:G21) -> 100777.15
B23: BDI (24,23%) | C23: =(C22*24.23%) -> 944.53386 | D23: =(D22*24.23%) -> 2085.447 | E23: =(E22*24.23%) -> 9145.3586 | F23: =(F22*24.23%) -> 12242.964 | G23: =(G22*24.23%) -> 24418.304
B24: TOTAL | C24: =SUM(C22+C23) -> 4842.7339 | D24: =SUM(D22+D23) -> 10692.327 | E24: =SUM(E22+E23) -> 46889.307 | F24: =SUM(F22+F23) -> 62771.088 | G24: =SUM(G22+G23) -> 125195.46
A25: TOTAL ACUMULADO | C25: =C24 -> 4842.7339 | D25: =SUM(C25+D24) -> 15535.061 | E25: =SUM(D25+E24) -> 62424.367 | F25: =SUM(E25+F24) -> 125195.46
A28: Pedro de Toledo, 23 DE OUTUBRO de 2025

Sheet Memorial de Cálculo
B1: MEMÓRIA DE CALCÚLO
A2: Titulo | B2: Infraestrutura
A3: Obra | B3: Pavimentação com lajota sextavada de concreto
A4: Local | B4: Estrada Nicola di Salvo
A5: Bairro
A7: Ref. | B7: Código | C7: Item | D7: Especificações dos Serviços | E7: Quantidade | F7: Unidade
A8: CDHU | B8: 02.08.020 | C8: 1.1 | D8: Placa de identificação da obra | E8: 6 | F8: m²
D9: Dimensões de 4,50m x 1,50m
A10: CDHU | B10: 02.10.060 | C10: 1.2 | D10: Locação de vias, calçadas, tanques e lagoas M2 0,84 | E10: 72
D11: Comprimento = 72,00m
B13: 54.06 | C13: 2.0 | D13: Guias e sarjetas
A14: CDHU | B14: 54.06.151 | C14: 2.1 | D14: Execução de guia pre-fabricada
D15: Compr. = (72,00 m x2) = 144,00 m
C17: 3.0 | D17: MOVIMENTO DE TERRA
A18: CDHU | B18: 07.02.020 | C18: 3.1 | D18: Escavação mecanizada de valas ou cavas com profundidade até 2,00m | E18: 108 | F18: m³
A19: CDHU | D19: V= (72,00 x 6,00 x 0,25)
A20: CDHU | B20: 05.10.023 | C20: 3.2 | D20: Transporte de solo de 1ª e 2ª categoria por caminhão para distâncias superiores ao 5° km até 10º Km | E20: 108 | F20: m³
A21: CDHU | C21: 3.3 | D21: Abertura de Caixa atém 25 cm, inclui escavação, compactação, transporte e preparo do subleito | E21: 432 | F21: m²
D22: A= (72,00 x 6,00)
A23: CDHU | B23: 54.01.220 | C23: 3.4 | D23: Base para bica corrida | E23: 21.6 | F23: m³
D24: V= (72,00 x 6,00 x 0,05)
A25: Sinapi | B25: 368 | C25: 3.5 | D25: Areia para aterro | E25: 21.6 | F25: m³
D26: V= (72,00 x 6,00 x 0,05)
A27: CDHU | B27: 54.01.010 | C27: 3.6 | D27: Regularização e compactação mecanizada de superfície, sem controle do proctor normal | E27: 432 | F27: m²
D28: A= (72,00 x 6,00)
A29: CDHU | B29: 54.04.350 | C29: 3.7 | D29: Pavimentação em lajota de concreto 35 MPa, espessura 8 cm, tipos: raquete, retangular, sextavado e 16 faces, com rejunte em areia | E29: 432 | F29: m²
D30: A= (72,00 x 6,00)
